BEGIN:VCALENDAR
VERSION:2.0
PRODID:-//Bloomington Bison//bloomingtonbisonhockey.com//EN
CALSCALE:GREGORIAN
BEGIN:VEVENT
UID:https://bloomingtonbisonhockey.com/games/2026/05/03/toledo-walleye
DTSTAMP:20260420T082104Z
SUMMARY:Bloomington Bison @ Toledo Walleye
DTSTART;TZID=Canada/Eastern:20260503T151500
DTEND;TZID=Canada/Eastern:20260503T181500
DESCRIPTION:Bloomington Bison at Toledo Walleye
LOCATION:Huntington Center\, Toledo\, Ohio
URL;VALUE=URI:https://bloomingtonbisonhockey.com/games/2026/05/03/toledo-wa
 lleye
END:VEVENT
END:VCALENDAR
