BEGIN:VCALENDAR
VERSION:2.0
PRODID:-//Bloomington Bison//bloomingtonbisonhockey.com//EN
CALSCALE:GREGORIAN
BEGIN:VEVENT
UID:https://bloomingtonbisonhockey.com/games/2026/04/29/central-division-se
 mifinals-vs-toledo-game-4
DTSTAMP:20260420T202811Z
SUMMARY:Central Division Semifinals vs Toledo: Game 4
DTSTART;TZID=Canada/Central:20260429T190000
DTEND;TZID=Canada/Central:20260429T220000
DESCRIPTION:Toledo Walleye at Bloomington Bison
LOCATION:Grossinger Motors Arena\, Bloomington\, Illinois
URL;VALUE=URI:https://bloomingtonbisonhockey.com/games/2026/04/29/central-d
 ivision-semifinals-vs-toledo-game-4
END:VEVENT
END:VCALENDAR
