BEGIN:VCALENDAR
VERSION:2.0
PRODID:-//Bloomington Bison//bloomingtonbisonhockey.com//EN
CALSCALE:GREGORIAN
BEGIN:VEVENT
UID:https://bloomingtonbisonhockey.com/games/2026/04/27/toledo-walleye
DTSTAMP:20260420T062932Z
SUMMARY:Toledo Walleye @ Bloomington Bison
DTSTART;TZID=Canada/Central:20260427T190000
DTEND;TZID=Canada/Central:20260427T220000
DESCRIPTION:Toledo Walleye at Bloomington Bison
LOCATION:Grossinger Motors Arena\, Bloomington\, Illinois
URL;VALUE=URI:https://bloomingtonbisonhockey.com/games/2026/04/27/toledo-wa
 lleye
END:VEVENT
END:VCALENDAR
