BEGIN:VCALENDAR
VERSION:2.0
PRODID:-//Bloomington Bison//bloomingtonbisonhockey.com//EN
CALSCALE:GREGORIAN
BEGIN:VEVENT
UID:https://bloomingtonbisonhockey.com/games/2026/04/27/central-division-se
 mifinals-vs-toledo-game-3
DTSTAMP:20260420T184036Z
SUMMARY:Central Division Semifinals vs Toledo: Game 3
DTSTART;TZID=Canada/Central:20260427T190000
DTEND;TZID=Canada/Central:20260427T220000
DESCRIPTION:Toledo Walleye at Bloomington Bison
LOCATION:Grossinger Motors Arena\, Bloomington\, Illinois
URL;VALUE=URI:https://bloomingtonbisonhockey.com/games/2026/04/27/central-d
 ivision-semifinals-vs-toledo-game-3
END:VEVENT
END:VCALENDAR
